BEGIN:VCALENDAR
VERSION:2.0
PRODID:-//Berkner Park Neighborhood Association - ECPv6.15.20//NONSGML v1.0//EN
CALSCALE:GREGORIAN
METHOD:PUBLISH
X-WR-CALNAME:Berkner Park Neighborhood Association
X-ORIGINAL-URL:https://berknerpark.com/production
X-WR-CALDESC:Events for Berkner Park Neighborhood Association
REFRESH-INTERVAL;VALUE=DURATION:PT1H
X-Robots-Tag:noindex
X-PUBLISHED-TTL:PT1H
BEGIN:VTIMEZONE
TZID:America/Chicago
BEGIN:DAYLIGHT
TZOFFSETFROM:-0600
TZOFFSETTO:-0500
TZNAME:CDT
DTSTART:20230312T080000
END:DAYLIGHT
BEGIN:STANDARD
TZOFFSETFROM:-0500
TZOFFSETTO:-0600
TZNAME:CST
DTSTART:20231105T070000
END:STANDARD
BEGIN:DAYLIGHT
TZOFFSETFROM:-0600
TZOFFSETTO:-0500
TZNAME:CDT
DTSTART:20240310T080000
END:DAYLIGHT
BEGIN:STANDARD
TZOFFSETFROM:-0500
TZOFFSETTO:-0600
TZNAME:CST
DTSTART:20241103T070000
END:STANDARD
BEGIN:DAYLIGHT
TZOFFSETFROM:-0600
TZOFFSETTO:-0500
TZNAME:CDT
DTSTART:20250309T080000
END:DAYLIGHT
BEGIN:STANDARD
TZOFFSETFROM:-0500
TZOFFSETTO:-0600
TZNAME:CST
DTSTART:20251102T070000
END:STANDARD
END:VTIMEZONE
BEGIN:VEVENT
DTSTART;TZID=America/Chicago:20240924T190000
DTEND;TZID=America/Chicago:20240924T203000
DTSTAMP:20260424T152210
CREATED:20240917T035349Z
LAST-MODIFIED:20240920T183459Z
UID:3081-1727204400-1727209800@berknerpark.com
SUMMARY:Fall General Membership Meeting
DESCRIPTION:When:              Tuesday\, September 24 \nTime:               7 – 8:30 p.m. (doors open @ 6:30 p.m.) \nWhere:            The Lecture Hall @ L. V. Berkner High School (enter center doors on E. Spring Valley Road) \nChris Shacklett\, Director\, Richardson Economic Development Department\, will be the meeting’s keynote speaker.  There are many economic and reinvestment initiatives in the works or are already underway.  Many are located east of North Central Expressway and some in the area around E. Belt Line Road and Plano Road.  Mr. Shacklett’s presentation will be highly informative in terms of what these changes are and mean for us as property owners\, as well as\, how they will impact our side of the city.  You don’t want to miss this informative presentation!
URL:https://berknerpark.com/production/event/fall-general-membership-meeting-2024/
LOCATION:Berkner High School\, 1600 E. Spring Valley Rd.\, Richardson\, TX\, 75081\, United States
END:VEVENT
END:VCALENDAR