BEGIN:VCALENDAR
VERSION:2.0
PRODID:-//Berkner Park Neighborhood Association - ECPv6.15.20//NONSGML v1.0//EN
CALSCALE:GREGORIAN
METHOD:PUBLISH
X-WR-CALNAME:Berkner Park Neighborhood Association
X-ORIGINAL-URL:https://berknerpark.com/production
X-WR-CALDESC:Events for Berkner Park Neighborhood Association
REFRESH-INTERVAL;VALUE=DURATION:PT1H
X-Robots-Tag:noindex
X-PUBLISHED-TTL:PT1H
BEGIN:VTIMEZONE
TZID:America/Chicago
BEGIN:DAYLIGHT
TZOFFSETFROM:-0600
TZOFFSETTO:-0500
TZNAME:CDT
DTSTART:20250309T080000
END:DAYLIGHT
BEGIN:STANDARD
TZOFFSETFROM:-0500
TZOFFSETTO:-0600
TZNAME:CST
DTSTART:20251102T070000
END:STANDARD
BEGIN:DAYLIGHT
TZOFFSETFROM:-0600
TZOFFSETTO:-0500
TZNAME:CDT
DTSTART:20260308T080000
END:DAYLIGHT
BEGIN:STANDARD
TZOFFSETFROM:-0500
TZOFFSETTO:-0600
TZNAME:CST
DTSTART:20261101T070000
END:STANDARD
BEGIN:DAYLIGHT
TZOFFSETFROM:-0600
TZOFFSETTO:-0500
TZNAME:CDT
DTSTART:20270314T080000
END:DAYLIGHT
BEGIN:STANDARD
TZOFFSETFROM:-0500
TZOFFSETTO:-0600
TZNAME:CST
DTSTART:20271107T070000
END:STANDARD
END:VTIMEZONE
BEGIN:VEVENT
DTSTART;TZID=America/Chicago:20260324T190000
DTEND;TZID=America/Chicago:20260324T203000
DTSTAMP:20260423T112154
CREATED:20260324T045923Z
LAST-MODIFIED:20260324T050824Z
UID:3374-1774378800-1774384200@berknerpark.com
SUMMARY:2026 Spring General Membership Meeting
DESCRIPTION:Our meeting is Tuesday\, March 24\, 7-8:30 p.m. in the Lecture Hall at L. V. Berkner High School.  Pizza donated by Papa John’s and iced bottled water will be available starting at 6:30 p.m. \nPlease be aware that all  doors to the school must remain locked.  Accordingly\, you must enter the school no later than 7 p.m. to avoid being locked out. \nA proposed bylaw amendment to increase annual association membership to $40 is on the agenda.  If approved\, it will become effective starting with the 2027 membership year. \nRichardson Police Chief Gary Tittle will be providing a department and crime update\, as well as\, addressing member questions and complaints. \nThe Mayor\, Mayor Pro Tem\, and three city council members have said they will attend our meeting. \nSee you at the meeting!
URL:https://berknerpark.com/production/event/2026-spring-general-membership-meeting/
LOCATION:Berkner High School\, 1600 E. Spring Valley Rd.\, Richardson\, TX\, 75081\, United States
CATEGORIES:Membership Meeting
END:VEVENT
END:VCALENDAR